BEGIN:VCALENDAR
VERSION:2.0
PRODID:-//Saint Léonard Normandie votre commune proche de Fécamp - ECPv6.15.20//NONSGML v1.0//EN
CALSCALE:GREGORIAN
METHOD:PUBLISH
X-WR-CALNAME:Saint Léonard Normandie votre commune proche de Fécamp
X-ORIGINAL-URL:https://www.saint-leonard.fr
X-WR-CALDESC:Évènements pour Saint Léonard Normandie votre commune proche de Fécamp
REFRESH-INTERVAL;VALUE=DURATION:PT1H
X-Robots-Tag:noindex
X-PUBLISHED-TTL:PT1H
BEGIN:VTIMEZONE
TZID:Europe/Paris
BEGIN:DAYLIGHT
TZOFFSETFROM:+0100
TZOFFSETTO:+0200
TZNAME:CEST
DTSTART:20240331T010000
END:DAYLIGHT
BEGIN:STANDARD
TZOFFSETFROM:+0200
TZOFFSETTO:+0100
TZNAME:CET
DTSTART:20241027T010000
END:STANDARD
BEGIN:DAYLIGHT
TZOFFSETFROM:+0100
TZOFFSETTO:+0200
TZNAME:CEST
DTSTART:20250330T010000
END:DAYLIGHT
BEGIN:STANDARD
TZOFFSETFROM:+0200
TZOFFSETTO:+0100
TZNAME:CET
DTSTART:20251026T010000
END:STANDARD
BEGIN:DAYLIGHT
TZOFFSETFROM:+0100
TZOFFSETTO:+0200
TZNAME:CEST
DTSTART:20260329T010000
END:DAYLIGHT
BEGIN:STANDARD
TZOFFSETFROM:+0200
TZOFFSETTO:+0100
TZNAME:CET
DTSTART:20261025T010000
END:STANDARD
END:VTIMEZONE
BEGIN:VEVENT
DTSTART;TZID=Europe/Paris:20250417T163000
DTEND;TZID=Europe/Paris:20250417T163000
DTSTAMP:20260421T032049
CREATED:20250406T215253Z
LAST-MODIFIED:20250407T071946Z
UID:8767-1744907400-1744907400@www.saint-leonard.fr
SUMMARY:CONCERT avec l'Ensemble Vocal de Pradier
DESCRIPTION:Musiques d'Espagne et d'Amérique du Sud (XVIème et XVIIème siècles) sous la direction Benoît Grenèche.
URL:https://www.saint-leonard.fr/event/concert-avec-lensemble-vocal-de-pradier/
LOCATION:Chapelle de Grainval\, 146\, Route de Grainval\, SAINT-LEONARD\, 76400
ATTACH;FMTTYPE=image/jpeg:https://www.saint-leonard.fr/wp-content/uploads/2024/08/CONCERT-CG-1.jpg
ORGANIZER;CN="Association des Amis de la Chapelle de Grainval":MAILTO:m.crochemore@free.fr
END:VEVENT
END:VCALENDAR