BEGIN:VCALENDAR
VERSION:2.0
PRODID:-//Saint Léonard Normandie votre commune proche de Fécamp - ECPv6.15.20//NONSGML v1.0//EN
CALSCALE:GREGORIAN
METHOD:PUBLISH
X-WR-CALNAME:Saint Léonard Normandie votre commune proche de Fécamp
X-ORIGINAL-URL:https://www.saint-leonard.fr
X-WR-CALDESC:Évènements pour Saint Léonard Normandie votre commune proche de Fécamp
REFRESH-INTERVAL;VALUE=DURATION:PT1H
X-Robots-Tag:noindex
X-PUBLISHED-TTL:PT1H
BEGIN:VTIMEZONE
TZID:Europe/Paris
BEGIN:DAYLIGHT
TZOFFSETFROM:+0100
TZOFFSETTO:+0200
TZNAME:CEST
DTSTART:20240331T010000
END:DAYLIGHT
BEGIN:STANDARD
TZOFFSETFROM:+0200
TZOFFSETTO:+0100
TZNAME:CET
DTSTART:20241027T010000
END:STANDARD
BEGIN:DAYLIGHT
TZOFFSETFROM:+0100
TZOFFSETTO:+0200
TZNAME:CEST
DTSTART:20250330T010000
END:DAYLIGHT
BEGIN:STANDARD
TZOFFSETFROM:+0200
TZOFFSETTO:+0100
TZNAME:CET
DTSTART:20251026T010000
END:STANDARD
BEGIN:DAYLIGHT
TZOFFSETFROM:+0100
TZOFFSETTO:+0200
TZNAME:CEST
DTSTART:20260329T010000
END:DAYLIGHT
BEGIN:STANDARD
TZOFFSETFROM:+0200
TZOFFSETTO:+0100
TZNAME:CET
DTSTART:20261025T010000
END:STANDARD
END:VTIMEZONE
BEGIN:VEVENT
DTSTART;VALUE=DATE:20250308
DTEND;VALUE=DATE:20250309
DTSTAMP:20260421T044909
CREATED:20241224T105826Z
LAST-MODIFIED:20250304T100323Z
UID:8584-1741392000-1741478399@www.saint-leonard.fr
SUMMARY:LOTO
DESCRIPTION:
URL:https://www.saint-leonard.fr/event/loto-28/
LOCATION:Salle polyvalente “Henri Lambert”\, Rue des Rossignols\, SAINT-LEONARD\, 76400
ATTACH;FMTTYPE=image/jpeg:https://www.saint-leonard.fr/wp-content/uploads/2022/02/LOTO.jpg
END:VEVENT
END:VCALENDAR