BEGIN:VCALENDAR
VERSION:2.0
PRODID:-//Saint Léonard Normandie votre commune proche de Fécamp - ECPv6.15.20//NONSGML v1.0//EN
CALSCALE:GREGORIAN
METHOD:PUBLISH
X-WR-CALNAME:Saint Léonard Normandie votre commune proche de Fécamp
X-ORIGINAL-URL:https://www.saint-leonard.fr
X-WR-CALDESC:Évènements pour Saint Léonard Normandie votre commune proche de Fécamp
REFRESH-INTERVAL;VALUE=DURATION:PT1H
X-Robots-Tag:noindex
X-PUBLISHED-TTL:PT1H
BEGIN:VTIMEZONE
TZID:Europe/Helsinki
BEGIN:DAYLIGHT
TZOFFSETFROM:+0200
TZOFFSETTO:+0300
TZNAME:EEST
DTSTART:20150329T010000
END:DAYLIGHT
BEGIN:STANDARD
TZOFFSETFROM:+0300
TZOFFSETTO:+0200
TZNAME:EET
DTSTART:20151025T010000
END:STANDARD
BEGIN:DAYLIGHT
TZOFFSETFROM:+0200
TZOFFSETTO:+0300
TZNAME:EEST
DTSTART:20160327T010000
END:DAYLIGHT
BEGIN:STANDARD
TZOFFSETFROM:+0300
TZOFFSETTO:+0200
TZNAME:EET
DTSTART:20161030T010000
END:STANDARD
BEGIN:DAYLIGHT
TZOFFSETFROM:+0200
TZOFFSETTO:+0300
TZNAME:EEST
DTSTART:20170326T010000
END:DAYLIGHT
BEGIN:STANDARD
TZOFFSETFROM:+0300
TZOFFSETTO:+0200
TZNAME:EET
DTSTART:20171029T010000
END:STANDARD
END:VTIMEZONE
BEGIN:VEVENT
DTSTART;TZID=Europe/Helsinki:20161108T190000
DTEND;TZID=Europe/Helsinki:20161108T203000
DTSTAMP:20260422T042550
CREATED:20160927T100229Z
LAST-MODIFIED:20161005T134320Z
UID:1625-1478631600-1478637000@www.saint-leonard.fr
SUMMARY:RÉUNION PUBLIQUE "AMÉNAGEMENT D'UN CENTRE BOURG"
DESCRIPTION:Cette rencontre sera l'occasion d'effectuer un bilan de l'enquête à destination des plus de 50 ans\, de discuter de l'avenir de la commune et des services dont vous aimeriez disposer. \nLes grandes orientations pour les 10 à 20 prochaines années pourront être envisagées ainsi qu'une mise en adéquation du centre-bourg avec les évolutions de la commune (logements\, services\, circulation...).
URL:https://www.saint-leonard.fr/event/reunion-publique-centre-bourg/
LOCATION:Salle polyvalente “Henri Lambert”\, Rue des Rossignols\, SAINT-LEONARD\, 76400
ATTACH;FMTTYPE=image/jpeg:https://www.saint-leonard.fr/wp-content/uploads/2016/09/Reunion-publique.jpg
ORGANIZER;CN="MAIRIE":MAILTO:mairie-saintleonard@wanadoo.fr
END:VEVENT
END:VCALENDAR