BEGIN:VCALENDAR
VERSION:2.0
PRODID:-//Saint Léonard Normandie votre commune proche de Fécamp - ECPv6.15.20//NONSGML v1.0//EN
CALSCALE:GREGORIAN
METHOD:PUBLISH
X-WR-CALNAME:Saint Léonard Normandie votre commune proche de Fécamp
X-ORIGINAL-URL:https://www.saint-leonard.fr
X-WR-CALDESC:Évènements pour Saint Léonard Normandie votre commune proche de Fécamp
REFRESH-INTERVAL;VALUE=DURATION:PT1H
X-Robots-Tag:noindex
X-PUBLISHED-TTL:PT1H
BEGIN:VTIMEZONE
TZID:Europe/Paris
BEGIN:DAYLIGHT
TZOFFSETFROM:+0100
TZOFFSETTO:+0200
TZNAME:CEST
DTSTART:20240331T010000
END:DAYLIGHT
BEGIN:STANDARD
TZOFFSETFROM:+0200
TZOFFSETTO:+0100
TZNAME:CET
DTSTART:20241027T010000
END:STANDARD
BEGIN:DAYLIGHT
TZOFFSETFROM:+0100
TZOFFSETTO:+0200
TZNAME:CEST
DTSTART:20250330T010000
END:DAYLIGHT
BEGIN:STANDARD
TZOFFSETFROM:+0200
TZOFFSETTO:+0100
TZNAME:CET
DTSTART:20251026T010000
END:STANDARD
BEGIN:DAYLIGHT
TZOFFSETFROM:+0100
TZOFFSETTO:+0200
TZNAME:CEST
DTSTART:20260329T010000
END:DAYLIGHT
BEGIN:STANDARD
TZOFFSETFROM:+0200
TZOFFSETTO:+0100
TZNAME:CET
DTSTART:20261025T010000
END:STANDARD
END:VTIMEZONE
BEGIN:VEVENT
DTSTART;TZID=Europe/Paris:20250426T133000
DTEND;TZID=Europe/Paris:20250426T133000
DTSTAMP:20260421T045954
CREATED:20250409T104421Z
LAST-MODIFIED:20250409T104504Z
UID:8791-1745674200-1745674200@www.saint-leonard.fr
SUMMARY:SORTIE VELO (avec le TCM)
DESCRIPTION:Sortie vélo de Fécamp à Cany par la voie verte (Aller-retour) ou aller-retour Fécamp-Valmont. Départ du parking d'Intermarché (fécamp) à 13h30 pour un retour serein vers 19h.
URL:https://www.saint-leonard.fr/event/sortie-velo-avec-le-tcm/
LOCATION:parking intermarché (Fécamp)
ATTACH;FMTTYPE=image/jpeg:https://www.saint-leonard.fr/wp-content/uploads/2025/04/VELO.jpg
ORGANIZER;CN="TENNIS CLUB DE SAINT-LEONARD":MAILTO:gerard.deneuve@orange.fr
END:VEVENT
END:VCALENDAR