BEGIN:VCALENDAR
VERSION:2.0
PRODID:-//Saint Léonard Normandie votre commune proche de Fécamp - ECPv6.15.20//NONSGML v1.0//EN
CALSCALE:GREGORIAN
METHOD:PUBLISH
X-WR-CALNAME:Saint Léonard Normandie votre commune proche de Fécamp
X-ORIGINAL-URL:https://www.saint-leonard.fr
X-WR-CALDESC:Évènements pour Saint Léonard Normandie votre commune proche de Fécamp
REFRESH-INTERVAL;VALUE=DURATION:PT1H
X-Robots-Tag:noindex
X-PUBLISHED-TTL:PT1H
BEGIN:VTIMEZONE
TZID:Europe/Paris
BEGIN:DAYLIGHT
TZOFFSETFROM:+0100
TZOFFSETTO:+0200
TZNAME:CEST
DTSTART:20240331T010000
END:DAYLIGHT
BEGIN:STANDARD
TZOFFSETFROM:+0200
TZOFFSETTO:+0100
TZNAME:CET
DTSTART:20241027T010000
END:STANDARD
BEGIN:DAYLIGHT
TZOFFSETFROM:+0100
TZOFFSETTO:+0200
TZNAME:CEST
DTSTART:20250330T010000
END:DAYLIGHT
BEGIN:STANDARD
TZOFFSETFROM:+0200
TZOFFSETTO:+0100
TZNAME:CET
DTSTART:20251026T010000
END:STANDARD
BEGIN:DAYLIGHT
TZOFFSETFROM:+0100
TZOFFSETTO:+0200
TZNAME:CEST
DTSTART:20260329T010000
END:DAYLIGHT
BEGIN:STANDARD
TZOFFSETFROM:+0200
TZOFFSETTO:+0100
TZNAME:CET
DTSTART:20261025T010000
END:STANDARD
END:VTIMEZONE
BEGIN:VEVENT
DTSTART;TZID=Europe/Paris:20250130T150000
DTEND;TZID=Europe/Paris:20250130T150000
DTSTAMP:20260421T064610
CREATED:20241224T104755Z
LAST-MODIFIED:20250114T142201Z
UID:8571-1738249200-1738249200@www.saint-leonard.fr
SUMMARY:SPECTACLE "PIERRE ET LE LOUP" avec la compagnie Micromega
DESCRIPTION:
URL:https://www.saint-leonard.fr/event/spectacle-pierre-et-le-loup-avec-la-compagnie-micromega/
LOCATION:Salle polyvalente “Henri Lambert”\, Rue des Rossignols\, SAINT-LEONARD\, 76400
ATTACH;FMTTYPE=image/jpeg:https://www.saint-leonard.fr/wp-content/uploads/2024/12/Capture-decran-2024-12-24-114406.jpg
ORGANIZER;CN="Association des Amis de la Chapelle de Grainval":MAILTO:m.crochemore@free.fr
END:VEVENT
END:VCALENDAR