BEGIN:VCALENDAR
VERSION:2.0
PRODID:-//Saint Léonard Normandie votre commune proche de Fécamp - ECPv6.15.20//NONSGML v1.0//EN
CALSCALE:GREGORIAN
METHOD:PUBLISH
X-ORIGINAL-URL:https://www.saint-leonard.fr
X-WR-CALDESC:Évènements pour Saint Léonard Normandie votre commune proche de Fécamp
REFRESH-INTERVAL;VALUE=DURATION:PT1H
X-Robots-Tag:noindex
X-PUBLISHED-TTL:PT1H
BEGIN:VTIMEZONE
TZID:Europe/Paris
BEGIN:DAYLIGHT
TZOFFSETFROM:+0100
TZOFFSETTO:+0200
TZNAME:CEST
DTSTART:20220327T010000
END:DAYLIGHT
BEGIN:STANDARD
TZOFFSETFROM:+0200
TZOFFSETTO:+0100
TZNAME:CET
DTSTART:20221030T010000
END:STANDARD
BEGIN:DAYLIGHT
TZOFFSETFROM:+0100
TZOFFSETTO:+0200
TZNAME:CEST
DTSTART:20230326T010000
END:DAYLIGHT
BEGIN:STANDARD
TZOFFSETFROM:+0200
TZOFFSETTO:+0100
TZNAME:CET
DTSTART:20231029T010000
END:STANDARD
BEGIN:DAYLIGHT
TZOFFSETFROM:+0100
TZOFFSETTO:+0200
TZNAME:CEST
DTSTART:20240331T010000
END:DAYLIGHT
BEGIN:STANDARD
TZOFFSETFROM:+0200
TZOFFSETTO:+0100
TZNAME:CET
DTSTART:20241027T010000
END:STANDARD
END:VTIMEZONE
BEGIN:VEVENT
DTSTART;VALUE=DATE:20230326
DTEND;VALUE=DATE:20230327
DTSTAMP:20260422T083014
CREATED:20221208T094440Z
LAST-MODIFIED:20221208T094440Z
UID:6726-1679788800-1679875199@www.saint-leonard.fr
SUMMARY:Repas offert aux Aînés de la commune par la municipalité
DESCRIPTION:
URL:https://www.saint-leonard.fr/event/repas-offert-aux-aines-de-la-commune-par-la-municipalite/
LOCATION:Salle polyvalente “Henri Lambert”\, Rue des Rossignols\, SAINT-LEONARD\, 76400
ATTACH;FMTTYPE=image/jpeg:https://www.saint-leonard.fr/wp-content/uploads/2021/08/REPAS-CJA.jpeg
ORGANIZER;CN="MAIRIE":MAILTO:mairie-saintleonard@wanadoo.fr
END:VEVENT
END:VCALENDAR