BEGIN:VCALENDAR
VERSION:2.0
PRODID:-//Saint Léonard Normandie votre commune proche de Fécamp - ECPv6.15.20//NONSGML v1.0//EN
CALSCALE:GREGORIAN
METHOD:PUBLISH
X-ORIGINAL-URL:https://www.saint-leonard.fr
X-WR-CALDESC:Évènements pour Saint Léonard Normandie votre commune proche de Fécamp
REFRESH-INTERVAL;VALUE=DURATION:PT1H
X-Robots-Tag:noindex
X-PUBLISHED-TTL:PT1H
BEGIN:VTIMEZONE
TZID:Europe/Paris
BEGIN:DAYLIGHT
TZOFFSETFROM:+0100
TZOFFSETTO:+0200
TZNAME:CEST
DTSTART:20220327T010000
END:DAYLIGHT
BEGIN:STANDARD
TZOFFSETFROM:+0200
TZOFFSETTO:+0100
TZNAME:CET
DTSTART:20221030T010000
END:STANDARD
BEGIN:DAYLIGHT
TZOFFSETFROM:+0100
TZOFFSETTO:+0200
TZNAME:CEST
DTSTART:20230326T010000
END:DAYLIGHT
BEGIN:STANDARD
TZOFFSETFROM:+0200
TZOFFSETTO:+0100
TZNAME:CET
DTSTART:20231029T010000
END:STANDARD
BEGIN:DAYLIGHT
TZOFFSETFROM:+0100
TZOFFSETTO:+0200
TZNAME:CEST
DTSTART:20240331T010000
END:DAYLIGHT
BEGIN:STANDARD
TZOFFSETFROM:+0200
TZOFFSETTO:+0100
TZNAME:CET
DTSTART:20241027T010000
END:STANDARD
END:VTIMEZONE
BEGIN:VEVENT
DTSTART;VALUE=DATE:20230206
DTEND;VALUE=DATE:20230305
DTSTAMP:20260422T065545
CREATED:20230206T114013Z
LAST-MODIFIED:20230206T114046Z
UID:6788-1675641600-1677974399@www.saint-leonard.fr
SUMMARY:ACTION CONTRE LA FAIM (PORTE-A-PORTE)
DESCRIPTION:ACTION CONTRE LA FAIM entreprend une campagne de sensibilisation en porte-à-porte à Saint-Léonard du 6 février 2023 au 4 mars 2023\, à raison de 3 jours maximum durant cette période (du lundi au samedi\, de 10h à 20h).\n\n\n\n ACTION CONTRE LA FAIM\, l'une des plus importantes organisations non gouvernementales françaises\, reconnue d’utilité publique\, agit depuis plus de 40 ans pour sauver des vies. Les équipes\, présentes dans 50 pays dans le monde\, combattent sur tous les fronts de la faim : nutrition et santé\, sécurité alimentaire\, eau\, assainissement et hygiène\, santé mentale et plaidoyer.\n\n\n Cette campagne a pour objectif de sensibiliser mais aussi de trouver de nouvelles adhésions mais ne fera pas l'objet d'une quête (collecte de fonds en espèce ou en chèque). En effet\, les personnes qui souhaitent soutenir l'association rempliront un bulletin en ligne\, validé par une signature électronique et s’engageront pour un soutien mensuel en prélèvement automatique.\n\n\n L'équipe mandatée par ACTION CONTRE LA FAIM rencontrera les personnes devant leur domicile. Elle sera clairement identifiable par un badge et des vêtements aux couleurs de l’association.
URL:https://www.saint-leonard.fr/event/action-contre-la-faim-porte-a-porte/
ATTACH;FMTTYPE=image/jpeg:https://www.saint-leonard.fr/wp-content/uploads/2023/02/328255523_6311092758901102_5311326041793598667_n.jpg
END:VEVENT
BEGIN:VEVENT
DTSTART;VALUE=DATE:20230304
DTEND;VALUE=DATE:20230305
DTSTAMP:20260422T065545
CREATED:20221208T093643Z
LAST-MODIFIED:20230222T135843Z
UID:6715-1677888000-1677974399@www.saint-leonard.fr
SUMMARY:Loto d’Ecol’Léo
DESCRIPTION:cliquez ici pour télécharger le fichier au format .pdf
URL:https://www.saint-leonard.fr/event/loto-decolleo/
LOCATION:Salle polyvalente “Henri Lambert”\, Rue des Rossignols\, SAINT-LEONARD\, 76400
ATTACH;FMTTYPE=image/jpeg:https://www.saint-leonard.fr/wp-content/uploads/2022/02/loto-tennis.jpg
END:VEVENT
BEGIN:VEVENT
DTSTART;VALUE=DATE:20230309
DTEND;VALUE=DATE:20230310
DTSTAMP:20260422T065545
CREATED:20221208T093811Z
LAST-MODIFIED:20221208T093811Z
UID:6717-1678320000-1678406399@www.saint-leonard.fr
SUMMARY:Repas mensuel du Club des Jeunes d’Antan
DESCRIPTION:
URL:https://www.saint-leonard.fr/event/repas-mensuel-du-club-des-jeunes-dantan-6/
LOCATION:Salle polyvalente “Henri Lambert”\, Rue des Rossignols\, SAINT-LEONARD\, 76400
ATTACH;FMTTYPE=image/jpeg:https://www.saint-leonard.fr/wp-content/uploads/2021/08/REPAS-MENSUEL-CJA.jpg
END:VEVENT
BEGIN:VEVENT
DTSTART;VALUE=DATE:20230311
DTEND;VALUE=DATE:20230319
DTSTAMP:20260422T065545
CREATED:20230208T154752Z
LAST-MODIFIED:20230208T154840Z
UID:6801-1678492800-1679183999@www.saint-leonard.fr
SUMMARY:EXPOSITION DE PEINTURE "L'OISEAU PASSE-FRONTIERES"
DESCRIPTION:Cet artiste plasticien fécampois travaille depuis quelques années la peinture et la photographie numérique. La nature l'inspire\, il puise dans cet environnement un détail lumineux qu'il sublime par répétition : "de l'observation à l'abstraction". Le détail d'un épi de blé ressemble à un champ d'or. Le cadrage de la photographie permet de trouver la lumière voulue\, "certaines photos sont retravaillées mais pas toujours"\, précise l'artiste. \nL'exposition est à découvrir du samedi 11 au samedi 18 mars. \nExposition ouverte de 15h à 18h : samedi 11\, dimanche 12\, vendredi 17 et samedi 18. \nVernissage : vendredi 10 mars à 18h. \nEntrée libre - participation au chapeau. \n=> https://www.facebook.com/claude.baudoin.3/
URL:https://www.saint-leonard.fr/event/exposition-de-peinture-loiseau-passe-frontieres/
LOCATION:Chapelle de Grainval\, 146\, Route de Grainval\, SAINT-LEONARD\, 76400
ATTACH;FMTTYPE=image/jpeg:https://www.saint-leonard.fr/wp-content/uploads/2023/02/326474962_574901227480553_5954525348322397815_n.jpg
ORGANIZER;CN="Association des Amis de la Chapelle de Grainval":MAILTO:m.crochemore@free.fr
END:VEVENT
BEGIN:VEVENT
DTSTART;TZID=Europe/Paris:20230312T163000
DTEND;TZID=Europe/Paris:20230312T163000
DTSTAMP:20260422T065545
CREATED:20230208T163232Z
LAST-MODIFIED:20230208T163232Z
UID:6819-1678638600-1678638600@www.saint-leonard.fr
SUMMARY:LECTURE MUSICALE & EXPOSITION DE PEINTURE dans le cadre du Printemps des Poètes
DESCRIPTION:avec au poème : Jacques Moulin \nà la harpe : Sophie Renée Bernard \nà la peinture : Claude Baudoin \nEntrée avec libre participation au chapeau
URL:https://www.saint-leonard.fr/event/lecture-musicale-exposition-de-peinture-dans-le-cadre-du-printemps-des-poetes/
LOCATION:Chapelle de Grainval\, 146\, Route de Grainval\, SAINT-LEONARD\, 76400
ATTACH;FMTTYPE=image/jpeg:https://www.saint-leonard.fr/wp-content/uploads/2023/02/rubon1270-3334698948-e1674463113187.jpg
ORGANIZER;CN="Association des Amis de la Chapelle de Grainval":MAILTO:m.crochemore@free.fr
END:VEVENT
BEGIN:VEVENT
DTSTART;VALUE=DATE:20230319
DTEND;VALUE=DATE:20230320
DTSTAMP:20260422T065545
CREATED:20221208T094238Z
LAST-MODIFIED:20230303T133443Z
UID:6721-1679184000-1679270399@www.saint-leonard.fr
SUMMARY:Cérémonie commémorative au monument aux morts
DESCRIPTION:
URL:https://www.saint-leonard.fr/event/ceremonie-commemorative-au-monument-aux-morts/
LOCATION:EGLISE DE SAINT-LEONARD\, rue du 11 novembre 1918\, SAINT-LEONARD\, 76400\, France
ATTACH;FMTTYPE=image/png:https://www.saint-leonard.fr/wp-content/uploads/2022/12/19-mars.png
ORGANIZER;CN="MAIRIE":MAILTO:mairie-saintleonard@wanadoo.fr
END:VEVENT
BEGIN:VEVENT
DTSTART;TZID=Europe/Paris:20230321T200000
DTEND;TZID=Europe/Paris:20230321T200000
DTSTAMP:20260422T065545
CREATED:20230315T164824Z
LAST-MODIFIED:20230315T164901Z
UID:6922-1679428800-1679428800@www.saint-leonard.fr
SUMMARY:REUNION DU CONSEIL MUNICIPAL
DESCRIPTION:cliquez ici pour télécharger le document au format .pdf
URL:https://www.saint-leonard.fr/event/reunion-du-conseil-municipal-15/
LOCATION:Salle polyvalente “Henri Lambert”\, Rue des Rossignols\, SAINT-LEONARD\, 76400
ATTACH;FMTTYPE=image/jpeg:https://www.saint-leonard.fr/wp-content/uploads/2023/03/drapeau-france-620x350-1-e1438011128551.jpg
ORGANIZER;CN="MAIRIE":MAILTO:mairie-saintleonard@wanadoo.fr
END:VEVENT
BEGIN:VEVENT
DTSTART;VALUE=DATE:20230323
DTEND;VALUE=DATE:20230324
DTSTAMP:20260422T065545
CREATED:20221208T094339Z
LAST-MODIFIED:20221208T094339Z
UID:6724-1679529600-1679615999@www.saint-leonard.fr
SUMMARY:Concours de manille du Club des Jeunes d’Antan
DESCRIPTION:
URL:https://www.saint-leonard.fr/event/concours-de-manille-du-club-des-jeunes-dantan-3/
LOCATION:Salle polyvalente “Henri Lambert”\, Rue des Rossignols\, SAINT-LEONARD\, 76400
ATTACH;FMTTYPE=image/jpeg:https://www.saint-leonard.fr/wp-content/uploads/2021/08/cja-02.jpg
END:VEVENT
BEGIN:VEVENT
DTSTART;VALUE=DATE:20230326
DTEND;VALUE=DATE:20230327
DTSTAMP:20260422T065545
CREATED:20221208T094440Z
LAST-MODIFIED:20221208T094440Z
UID:6726-1679788800-1679875199@www.saint-leonard.fr
SUMMARY:Repas offert aux Aînés de la commune par la municipalité
DESCRIPTION:
URL:https://www.saint-leonard.fr/event/repas-offert-aux-aines-de-la-commune-par-la-municipalite/
LOCATION:Salle polyvalente “Henri Lambert”\, Rue des Rossignols\, SAINT-LEONARD\, 76400
ATTACH;FMTTYPE=image/jpeg:https://www.saint-leonard.fr/wp-content/uploads/2021/08/REPAS-CJA.jpeg
ORGANIZER;CN="MAIRIE":MAILTO:mairie-saintleonard@wanadoo.fr
END:VEVENT
END:VCALENDAR